BEGIN:VCALENDAR
VERSION:2.0
CALSCALE:GREGORIAN
PRODID:-//Diputació de Barcelona//DibaCMS//EN
BEGIN:VEVENT
UID:10017
DTSTAMP:20260422T070822
DTSTART:20230611T100000
DTEND:20230611T160000
SUMMARY:XXXIV Festa Casal Caliu el Dolmen
LOCATION:
METHOD:PUBLISH
X-WR-CALNAME:vallgorguina@vallgorguina.cat
X-WR-TIMEZONE:Europe/Madrid
DESCRIPTION:
URI:https://www.vallgorguina.cat/actualitat/agenda/xxxiv-festa-casal-caliu-el-dolmen.html
CLASS:PUBLIC
END:VEVENT
END:VCALENDAR
