BEGIN:VCALENDAR
VERSION:2.0
CALSCALE:GREGORIAN
PRODID:-//Diputació de Barcelona//DibaCMS//EN
BEGIN:VEVENT
UID:10024
DTSTAMP:20260422T131913
DTSTART:20230701T180000
DTEND:20230701T230000
SUMMARY:Nocturna de Petanca - I Memorial Miquel Mateu
LOCATION:
METHOD:PUBLISH
X-WR-CALNAME:vallgorguina@vallgorguina.cat
X-WR-TIMEZONE:Europe/Madrid
DESCRIPTION:
URI:https://www.vallgorguina.cat/actualitat/agenda/nocturna-de-petanca-i-memorial-miquel-mateu.html
CLASS:PUBLIC
END:VEVENT
END:VCALENDAR
