BEGIN:VCALENDAR
VERSION:2.0
CALSCALE:GREGORIAN
PRODID:-//Diputació de Barcelona//DibaCMS//EN
BEGIN:VEVENT
UID:10032
DTSTAMP:20260422T125309
DTSTART:20230623T171500
DTEND:20230623T210000
SUMMARY:Flama del Canigó 2023
LOCATION:
METHOD:PUBLISH
X-WR-CALNAME:vallgorguina@vallgorguina.cat
X-WR-TIMEZONE:Europe/Madrid
DESCRIPTION:
URI:https://www.vallgorguina.cat/actualitat/agenda/flama-del-canigo-2023.html
CLASS:PUBLIC
END:VEVENT
END:VCALENDAR
