BEGIN:VCALENDAR
VERSION:2.0
CALSCALE:GREGORIAN
PRODID:-//Diputació de Barcelona//DibaCMS//EN
BEGIN:VEVENT
UID:10046
DTSTAMP:20260422T085759
DTSTART:20230704T100000
DTEND:20230704T140000
SUMMARY:Visita de l'Oficina Jove
LOCATION:Plaça de la Vila, 4 
METHOD:PUBLISH
X-WR-CALNAME:vallgorguina@vallgorguina.cat
X-WR-TIMEZONE:Europe/Madrid
DESCRIPTION:Demana hora a la referent d'Ocupació Juvenil (Marta):


	674.61.84.03
	orientaciojuvenil@vallesoriental.cat




URI:https://www.vallgorguina.cat/actualitat/agenda/visita-de-loficina-jove.html
CLASS:PUBLIC
END:VEVENT
END:VCALENDAR
