BEGIN:VCALENDAR
VERSION:2.0
CALSCALE:GREGORIAN
PRODID:-//Diputació de Barcelona//DibaCMS//EN
BEGIN:VEVENT
UID:10053
DTSTAMP:20260422T124521
DTSTART:20230704T060000
DTEND:20230704T120000
SUMMARY:Recollida de voluminosos
LOCATION:
METHOD:PUBLISH
X-WR-CALNAME:vallgorguina@vallgorguina.cat
X-WR-TIMEZONE:Europe/Madrid
DESCRIPTION:
URI:https://www.vallgorguina.cat/actualitat/agenda/10053-recollida-de-voluminosos.html
CLASS:PUBLIC
END:VEVENT
END:VCALENDAR
