BEGIN:VCALENDAR
VERSION:2.0
CALSCALE:GREGORIAN
PRODID:-//Diputació de Barcelona//DibaCMS//EN
BEGIN:VEVENT
UID:10056
DTSTAMP:20260422T023839
DTSTART:20230815T070000
DTEND:20230815T120000
SUMMARY:Recollida de voluminosos 
LOCATION:
METHOD:PUBLISH
X-WR-CALNAME:vallgorguina@vallgorguina.cat
X-WR-TIMEZONE:Europe/Madrid
DESCRIPTION:
URI:https://www.vallgorguina.cat/actualitat/agenda/recollida-de-voluminosos-.html
CLASS:PUBLIC
END:VEVENT
END:VCALENDAR
