BEGIN:VCALENDAR
VERSION:2.0
CALSCALE:GREGORIAN
PRODID:-//Diputació de Barcelona//DibaCMS//EN
BEGIN:VEVENT
UID:10058
DTSTAMP:20260422T065648
DTSTART:20230708T180000
DTEND:20230708T233000
SUMMARY:Festa Major a Can Puigdemir
LOCATION:
METHOD:PUBLISH
X-WR-CALNAME:vallgorguina@vallgorguina.cat
X-WR-TIMEZONE:Europe/Madrid
DESCRIPTION:
URI:https://www.vallgorguina.cat/actualitat/agenda/festa-major-a-can-puigdemir.html
CLASS:PUBLIC
END:VEVENT
END:VCALENDAR
