BEGIN:VCALENDAR
VERSION:2.0
CALSCALE:GREGORIAN
PRODID:-//Diputació de Barcelona//DibaCMS//EN
BEGIN:VEVENT
UID:10066
DTSTAMP:20260422T124240
DTSTART:20230729T220000
DTEND:20230729T235900
SUMMARY:Cantada d'Havaneres amb els Cremats
LOCATION:
METHOD:PUBLISH
X-WR-CALNAME:vallgorguina@vallgorguina.cat
X-WR-TIMEZONE:Europe/Madrid
DESCRIPTION:
URI:https://www.vallgorguina.cat/actualitat/agenda/cantada-dhavaneres-amb-els-cremats.html
CLASS:PUBLIC
END:VEVENT
END:VCALENDAR
