BEGIN:VCALENDAR
VERSION:2.0
CALSCALE:GREGORIAN
PRODID:-//Diputació de Barcelona//DibaCMS//EN
BEGIN:VEVENT
UID:10068
DTSTAMP:20260422T124511
DTSTART:20230706T180000
DTEND:20230706T180000
SUMMARY:Junta Govern Local
LOCATION:
METHOD:PUBLISH
X-WR-CALNAME:vallgorguina@vallgorguina.cat
X-WR-TIMEZONE:Europe/Madrid
DESCRIPTION:
URI:https://www.vallgorguina.cat/actualitat/agenda/10068-junta-govern-local.html
CLASS:PUBLIC
END:VEVENT
END:VCALENDAR
