BEGIN:VCALENDAR
VERSION:2.0
CALSCALE:GREGORIAN
PRODID:-//Diputació de Barcelona//DibaCMS//EN
BEGIN:VEVENT
UID:10070
DTSTAMP:20260422T045236
DTSTART:20230729T190000
DTEND:20230729T200000
SUMMARY:Presentació del llibre de poesia «'Edat Blava»
LOCATION:
METHOD:PUBLISH
X-WR-CALNAME:vallgorguina@vallgorguina.cat
X-WR-TIMEZONE:Europe/Madrid
DESCRIPTION:
URI:https://www.vallgorguina.cat/actualitat/agenda/presentacio-del-llibre-de-poesia-edat-blava.html
CLASS:PUBLIC
END:VEVENT
END:VCALENDAR
