BEGIN:VCALENDAR
VERSION:2.0
CALSCALE:GREGORIAN
PRODID:-//Diputació de Barcelona//DibaCMS//EN
BEGIN:VEVENT
UID:10074
DTSTAMP:20260422T003513
DTSTART:20230819T100000
DTEND:20230819T140000
SUMMARY:Deixalleria Mòbil a Vallgorguina 
LOCATION:
METHOD:PUBLISH
X-WR-CALNAME:vallgorguina@vallgorguina.cat
X-WR-TIMEZONE:Europe/Madrid
DESCRIPTION:
URI:https://www.vallgorguina.cat/actualitat/agenda/10074-deixalleria-mobil-a-vallgorguina-.html
CLASS:PUBLIC
END:VEVENT
END:VCALENDAR
