BEGIN:VCALENDAR
VERSION:2.0
CALSCALE:GREGORIAN
PRODID:-//Diputació de Barcelona//DibaCMS//EN
BEGIN:VEVENT
UID:10076
DTSTAMP:20260422T024216
DTSTART:20230724T070000
DTEND:20230724T130000
SUMMARY:Recollida porta a porta de la fracció vegetal
LOCATION:
METHOD:PUBLISH
X-WR-CALNAME:vallgorguina@vallgorguina.cat
X-WR-TIMEZONE:Europe/Madrid
DESCRIPTION:
URI:https://www.vallgorguina.cat/actualitat/agenda/10076-recollida-porta-a-porta-de-la-fraccio-vegetal.html
CLASS:PUBLIC
END:VEVENT
END:VCALENDAR
