BEGIN:VCALENDAR
VERSION:2.0
CALSCALE:GREGORIAN
PRODID:-//Diputació de Barcelona//DibaCMS//EN
BEGIN:VEVENT
UID:10088
DTSTAMP:20260422T030328
DTSTART:20230819T180000
DTEND:20230820T140000
SUMMARY:Exposició Emocions de Rosa Pérez Menen 
LOCATION:
METHOD:PUBLISH
X-WR-CALNAME:vallgorguina@vallgorguina.cat
X-WR-TIMEZONE:Europe/Madrid
DESCRIPTION:
URI:https://www.vallgorguina.cat/actualitat/agenda/10088-exposicio-emocions-de-rosa-perez-menen-.html
CLASS:PUBLIC
END:VEVENT
END:VCALENDAR
