BEGIN:VCALENDAR
VERSION:2.0
CALSCALE:GREGORIAN
PRODID:-//Diputació de Barcelona//DibaCMS//EN
BEGIN:VEVENT
UID:10098
DTSTAMP:20260422T085710
DTSTART:20230805T100000
DTEND:20230805T235500
SUMMARY:Festes Baronia del Montseny 
LOCATION:
METHOD:PUBLISH
X-WR-CALNAME:vallgorguina@vallgorguina.cat
X-WR-TIMEZONE:Europe/Madrid
DESCRIPTION:
URI:https://www.vallgorguina.cat/actualitat/agenda/festes-baronia-del-montseny-.html
CLASS:PUBLIC
END:VEVENT
END:VCALENDAR
