BEGIN:VCALENDAR
VERSION:2.0
CALSCALE:GREGORIAN
PRODID:-//Diputació de Barcelona//DibaCMS//EN
BEGIN:VEVENT
UID:10099
DTSTAMP:20260422T031006
DTSTART:20230806T100000
DTEND:20230806T143000
SUMMARY:Festes Baronia del Montseny  
LOCATION:
METHOD:PUBLISH
X-WR-CALNAME:vallgorguina@vallgorguina.cat
X-WR-TIMEZONE:Europe/Madrid
DESCRIPTION:
URI:https://www.vallgorguina.cat/actualitat/agenda/10099-festes-baronia-del-montseny-.html
CLASS:PUBLIC
END:VEVENT
END:VCALENDAR
