BEGIN:VCALENDAR
VERSION:2.0
CALSCALE:GREGORIAN
PRODID:-//Diputació de Barcelona//DibaCMS//EN
BEGIN:VEVENT
UID:10100
DTSTAMP:20260422T065614
DTSTART:20230814T210000
DTEND:20230814T235500
SUMMARY:XIV Sopar a la Fresca
LOCATION:
METHOD:PUBLISH
X-WR-CALNAME:vallgorguina@vallgorguina.cat
X-WR-TIMEZONE:Europe/Madrid
DESCRIPTION:
URI:https://www.vallgorguina.cat/actualitat/agenda/xiv-sopar-a-la-fresca.html
CLASS:PUBLIC
END:VEVENT
END:VCALENDAR
