BEGIN:VCALENDAR
VERSION:2.0
CALSCALE:GREGORIAN
PRODID:-//Diputació de Barcelona//DibaCMS//EN
BEGIN:VEVENT
UID:10106
DTSTAMP:20260422T090734
DTSTART:20230901T220000
DTEND:20230901T220000
SUMMARY:Caminada sota la lluna
LOCATION:Plaça Sant Andreu 
METHOD:PUBLISH
X-WR-CALNAME:vallgorguina@vallgorguina.cat
X-WR-TIMEZONE:Europe/Madrid
DESCRIPTION:
URI:https://www.vallgorguina.cat/actualitat/agenda/caminada-sota-la-lluna.html
CLASS:PUBLIC
END:VEVENT
END:VCALENDAR
