BEGIN:VCALENDAR
VERSION:2.0
CALSCALE:GREGORIAN
PRODID:-//Diputació de Barcelona//DibaCMS//EN
BEGIN:VEVENT
UID:10109
DTSTAMP:20260422T065737
DTSTART:20230902T210000
DTEND:20230902T210000
SUMMARY:Sopar final d'estiu LA FÀBRICA
LOCATION:La Fàbrica 
METHOD:PUBLISH
X-WR-CALNAME:vallgorguina@vallgorguina.cat
X-WR-TIMEZONE:Europe/Madrid
DESCRIPTION:Sopar de carmanyola i música, emplena el formulari per reservar la teva taula abans de l'1 de setembre de 2023.

**PLACES EXHAURIDES**

URI:https://www.vallgorguina.cat/actualitat/agenda/sopar-final-destiu-la-fabrica.html
CLASS:PUBLIC
END:VEVENT
END:VCALENDAR
