BEGIN:VCALENDAR
VERSION:2.0
CALSCALE:GREGORIAN
PRODID:-//Diputació de Barcelona//DibaCMS//EN
BEGIN:VEVENT
UID:10113
DTSTAMP:20260421T222557
DTSTART:20231017T070000
DTEND:20231017T140000
SUMMARY:Calendari de recollida de voluminosos 
LOCATION:
METHOD:PUBLISH
X-WR-CALNAME:vallgorguina@vallgorguina.cat
X-WR-TIMEZONE:Europe/Madrid
DESCRIPTION:
URI:https://www.vallgorguina.cat/actualitat/agenda/10113-calendari-de-recollida-de-voluminosos-.html
CLASS:PUBLIC
END:VEVENT
END:VCALENDAR
