BEGIN:VCALENDAR
VERSION:2.0
CALSCALE:GREGORIAN
PRODID:-//Diputació de Barcelona//DibaCMS//EN
BEGIN:VEVENT
UID:10114
DTSTAMP:20260421T202246
DTSTART:20231003T070000
DTEND:20231003T140000
SUMMARY:Calendari de recollida de voluminosos
LOCATION:
METHOD:PUBLISH
X-WR-CALNAME:vallgorguina@vallgorguina.cat
X-WR-TIMEZONE:Europe/Madrid
DESCRIPTION:
URI:https://www.vallgorguina.cat/actualitat/agenda/10114-calendari-de-recollida-de-voluminosos.html
CLASS:PUBLIC
END:VEVENT
END:VCALENDAR
