BEGIN:VCALENDAR
VERSION:2.0
CALSCALE:GREGORIAN
PRODID:-//Diputació de Barcelona//DibaCMS//EN
BEGIN:VEVENT
UID:10119
DTSTAMP:20260422T030113
DTSTART:20230904T000000
DTEND:20230911T000000
SUMMARY:Autocar 11S 2023
LOCATION:
METHOD:PUBLISH
X-WR-CALNAME:vallgorguina@vallgorguina.cat
X-WR-TIMEZONE:Europe/Madrid
DESCRIPTION:
URI:https://www.vallgorguina.cat/actualitat/agenda/autocar-11s-2023.html
CLASS:PUBLIC
END:VEVENT
END:VCALENDAR
