BEGIN:VCALENDAR
VERSION:2.0
CALSCALE:GREGORIAN
PRODID:-//Diputació de Barcelona//DibaCMS//EN
BEGIN:VEVENT
UID:10120
DTSTAMP:20260421T222522
DTSTART:20230916T093000
DTEND:20230916T123000
SUMMARY:Passejades guiades Parc del Montnegre i el Corredor
LOCATION:
METHOD:PUBLISH
X-WR-CALNAME:vallgorguina@vallgorguina.cat
X-WR-TIMEZONE:Europe/Madrid
DESCRIPTION:
URI:https://www.vallgorguina.cat/actualitat/agenda/passejades-guiades-parc-del-montnegre-i-el-corredor.html
CLASS:PUBLIC
END:VEVENT
END:VCALENDAR
