BEGIN:VCALENDAR
VERSION:2.0
CALSCALE:GREGORIAN
PRODID:-//Diputació de Barcelona//DibaCMS//EN
BEGIN:VEVENT
UID:10125
DTSTAMP:20260422T145952
DTSTART:20230923T080000
DTEND:20230924T140000
SUMMARY:Concurs de Pintura ràpida 2023
LOCATION:
METHOD:PUBLISH
X-WR-CALNAME:vallgorguina@vallgorguina.cat
X-WR-TIMEZONE:Europe/Madrid
DESCRIPTION:
URI:https://www.vallgorguina.cat/actualitat/agenda/concurs-de-pintura-rapida-2023.html
CLASS:PUBLIC
END:VEVENT
END:VCALENDAR
