BEGIN:VCALENDAR
VERSION:2.0
CALSCALE:GREGORIAN
PRODID:-//Diputació de Barcelona//DibaCMS//EN
BEGIN:VEVENT
UID:10128
DTSTAMP:20260421T222645
DTSTART:20230912T000000
DTEND:20230916T000000
SUMMARY: Petanca i Dòmino de Festa Major 2023
LOCATION:
METHOD:PUBLISH
X-WR-CALNAME:vallgorguina@vallgorguina.cat
X-WR-TIMEZONE:Europe/Madrid
DESCRIPTION:
URI:https://www.vallgorguina.cat/temes/cultura-popular-i-esdeveniments/festa-major-de-la-merce-2024/entrades-i-inscripcions-fm/-petanca-i-domino-de-festa-major-2023.html
CLASS:PUBLIC
END:VEVENT
END:VCALENDAR
