BEGIN:VCALENDAR
VERSION:2.0
CALSCALE:GREGORIAN
PRODID:-//Diputació de Barcelona//DibaCMS//EN
BEGIN:VEVENT
UID:10135
DTSTAMP:20260422T090722
DTSTART:20230915T200000
DTEND:20230915T220000
SUMMARY:Concurs de truita Senglars contra Guillots
LOCATION:
METHOD:PUBLISH
X-WR-CALNAME:vallgorguina@vallgorguina.cat
X-WR-TIMEZONE:Europe/Madrid
DESCRIPTION:
URI:https://www.vallgorguina.cat/temes/cultura-popular-i-esdeveniments/festa-major-de-la-merce-2024/entrades-i-inscripcions-fm/concurs-de-truita-senglars-contra-guillots.html
CLASS:PUBLIC
END:VEVENT
END:VCALENDAR
