BEGIN:VCALENDAR
VERSION:2.0
CALSCALE:GREGORIAN
PRODID:-//Diputació de Barcelona//DibaCMS//EN
BEGIN:VEVENT
UID:10136
DTSTAMP:20260422T030201
DTSTART:20230916T233000
DTEND:20230917T020000
SUMMARY:Correguines
LOCATION:
METHOD:PUBLISH
X-WR-CALNAME:vallgorguina@vallgorguina.cat
X-WR-TIMEZONE:Europe/Madrid
DESCRIPTION:
URI:https://www.vallgorguina.cat/temes/cultura-popular-i-esdeveniments/festa-major-de-la-merce-2024/entrades-i-inscripcions-fm/10136-correguines.html
CLASS:PUBLIC
END:VEVENT
END:VCALENDAR
