BEGIN:VCALENDAR
VERSION:2.0
CALSCALE:GREGORIAN
PRODID:-//Diputació de Barcelona//DibaCMS//EN
BEGIN:VEVENT
UID:10138
DTSTAMP:20260421T222719
DTSTART:20230913T100000
DTEND:20230917T160000
SUMMARY:Caminada familiar i Dinar de germanor
LOCATION:
METHOD:PUBLISH
X-WR-CALNAME:vallgorguina@vallgorguina.cat
X-WR-TIMEZONE:Europe/Madrid
DESCRIPTION:
URI:https://www.vallgorguina.cat/temes/cultura-popular-i-esdeveniments/festa-major-de-la-merce-2024/entrades-i-inscripcions-fm/caminada-familiar-i-dinar-de-germanor.html
CLASS:PUBLIC
END:VEVENT
END:VCALENDAR
