BEGIN:VCALENDAR
VERSION:2.0
CALSCALE:GREGORIAN
PRODID:-//Diputació de Barcelona//DibaCMS//EN
BEGIN:VEVENT
UID:10139
DTSTAMP:20260422T065834
DTSTART:20230920T000000
DTEND:20230924T000000
SUMMARY:Joc de la Pastanaga
LOCATION:
METHOD:PUBLISH
X-WR-CALNAME:vallgorguina@vallgorguina.cat
X-WR-TIMEZONE:Europe/Madrid
DESCRIPTION:
URI:https://www.vallgorguina.cat/temes/cultura-popular-i-esdeveniments/festa-major-de-la-merce-2024/entrades-i-inscripcions-fm/joc-de-la-pastanaga.html
CLASS:PUBLIC
END:VEVENT
END:VCALENDAR
