BEGIN:VCALENDAR
VERSION:2.0
CALSCALE:GREGORIAN
PRODID:-//Diputació de Barcelona//DibaCMS//EN
BEGIN:VEVENT
UID:10140
DTSTAMP:20260421T202146
DTSTART:20230923T220000
DTEND:20230923T234000
SUMMARY:El Grup de Teatre Vallgorguina presenta «Toc Toc»
LOCATION:
METHOD:PUBLISH
X-WR-CALNAME:vallgorguina@vallgorguina.cat
X-WR-TIMEZONE:Europe/Madrid
DESCRIPTION:
URI:https://www.vallgorguina.cat/temes/cultura-popular-i-esdeveniments/festa-major-de-la-merce-2024/entrades-i-inscripcions-fm/el-grup-de-teatre-vallgorguina-presenta-toc-toc.html
CLASS:PUBLIC
END:VEVENT
END:VCALENDAR
