BEGIN:VCALENDAR
VERSION:2.0
CALSCALE:GREGORIAN
PRODID:-//Diputació de Barcelona//DibaCMS//EN
BEGIN:VEVENT
UID:10143
DTSTAMP:20260422T023535
DTSTART:20231007T170000
DTEND:20231007T190000
SUMMARY:XXXIX Premi Mn Narcís Saguer 2023
LOCATION:
METHOD:PUBLISH
X-WR-CALNAME:vallgorguina@vallgorguina.cat
X-WR-TIMEZONE:Europe/Madrid
DESCRIPTION:
URI:https://www.vallgorguina.cat/temes/cultura-popular-i-esdeveniments/festa-major-de-la-merce-2024/entrades-i-inscripcions-fm/xxxix-premi-mn-narcis-saguer-2023.html
CLASS:PUBLIC
END:VEVENT
END:VCALENDAR
