BEGIN:VCALENDAR
VERSION:2.0
CALSCALE:GREGORIAN
PRODID:-//Diputació de Barcelona//DibaCMS//EN
BEGIN:VEVENT
UID:10147
DTSTAMP:20260421T221534
DTSTART:20230924T140000
DTEND:20230924T160000
SUMMARY:Dinar de Festa Major - Paella popular
LOCATION:
METHOD:PUBLISH
X-WR-CALNAME:vallgorguina@vallgorguina.cat
X-WR-TIMEZONE:Europe/Madrid
DESCRIPTION:
URI:https://www.vallgorguina.cat/temes/cultura-popular-i-esdeveniments/festa-major-de-la-merce-2024/entrades-i-inscripcions-fm/dinar-de-festa-major-paella-popular.html
CLASS:PUBLIC
END:VEVENT
END:VCALENDAR
