BEGIN:VCALENDAR
VERSION:2.0
CALSCALE:GREGORIAN
PRODID:-//Diputació de Barcelona//DibaCMS//EN
BEGIN:VEVENT
UID:10149
DTSTAMP:20260422T045342
DTSTART:20230920T000000
DTEND:20230923T090000
SUMMARY:Nova data Campionat de petanca per la Festa Major
LOCATION:
METHOD:PUBLISH
X-WR-CALNAME:vallgorguina@vallgorguina.cat
X-WR-TIMEZONE:Europe/Madrid
DESCRIPTION:
URI:https://www.vallgorguina.cat/temes/cultura-popular-i-esdeveniments/festa-major-de-la-merce-2024/entrades-i-inscripcions-fm/nova-data-campionat-de-petanca-per-la-festa-major.html
CLASS:PUBLIC
END:VEVENT
END:VCALENDAR
