BEGIN:VCALENDAR
VERSION:2.0
CALSCALE:GREGORIAN
PRODID:-//Diputació de Barcelona//DibaCMS//EN
BEGIN:VEVENT
UID:10154
DTSTAMP:20260421T221613
DTSTART:20230928T170000
DTEND:20230928T190000
SUMMARY:Setmana de la Gent Gran 
LOCATION:
METHOD:PUBLISH
X-WR-CALNAME:vallgorguina@vallgorguina.cat
X-WR-TIMEZONE:Europe/Madrid
DESCRIPTION:
URI:https://www.vallgorguina.cat/actualitat/agenda/10154-setmana-de-la-gent-gran-.html
CLASS:PUBLIC
END:VEVENT
END:VCALENDAR
