BEGIN:VCALENDAR
VERSION:2.0
CALSCALE:GREGORIAN
PRODID:-//Diputació de Barcelona//DibaCMS//EN
BEGIN:VEVENT
UID:10156
DTSTAMP:20260422T023755
DTSTART:20230930T100000
DTEND:20230930T120000
SUMMARY:Setmana de la Gent Gran 
LOCATION:
METHOD:PUBLISH
X-WR-CALNAME:vallgorguina@vallgorguina.cat
X-WR-TIMEZONE:Europe/Madrid
DESCRIPTION:
URI:https://www.vallgorguina.cat/actualitat/agenda/10156-setmana-de-la-gent-gran-.html
CLASS:PUBLIC
END:VEVENT
END:VCALENDAR
