BEGIN:VCALENDAR
VERSION:2.0
CALSCALE:GREGORIAN
PRODID:-//Diputació de Barcelona//DibaCMS//EN
BEGIN:VEVENT
UID:10159
DTSTAMP:20260421T203808
DTSTART:20231007T200000
DTEND:20231007T210000
SUMMARY:Lliurament de premis del Concurs de Pintura Ràpida de la Festa Major 2023
LOCATION:
METHOD:PUBLISH
X-WR-CALNAME:vallgorguina@vallgorguina.cat
X-WR-TIMEZONE:Europe/Madrid
DESCRIPTION:
URI:https://www.vallgorguina.cat/temes/cultura-popular-i-esdeveniments/festa-major-de-la-merce-2024/entrades-i-inscripcions-fm/lliurament-de-premis-del-concurs-de-pintura-rapida-de-la-festa-major-2023.html
CLASS:PUBLIC
END:VEVENT
END:VCALENDAR
