BEGIN:VCALENDAR
VERSION:2.0
CALSCALE:GREGORIAN
PRODID:-//Diputació de Barcelona//DibaCMS//EN
BEGIN:VEVENT
UID:10163
DTSTAMP:20260421T221624
DTSTART:20231004T180000
DTEND:20231004T180000
SUMMARY:Junta Govern Local
LOCATION:
METHOD:PUBLISH
X-WR-CALNAME:vallgorguina@vallgorguina.cat
X-WR-TIMEZONE:Europe/Madrid
DESCRIPTION:
URI:https://www.vallgorguina.cat/actualitat/agenda/10163-junta-govern-local.html
CLASS:PUBLIC
END:VEVENT
END:VCALENDAR
