BEGIN:VCALENDAR
VERSION:2.0
CALSCALE:GREGORIAN
PRODID:-//Diputació de Barcelona//DibaCMS//EN
BEGIN:VEVENT
UID:10170
DTSTAMP:20260421T181758
DTSTART:20231029T170000
DTEND:20231029T193000
SUMMARY:Castanyada sòcies i socis del Caliu
LOCATION:
METHOD:PUBLISH
X-WR-CALNAME:vallgorguina@vallgorguina.cat
X-WR-TIMEZONE:Europe/Madrid
DESCRIPTION:
URI:https://www.vallgorguina.cat/actualitat/agenda/castanyada-socies-i-socis-del-caliu.html
CLASS:PUBLIC
END:VEVENT
END:VCALENDAR
