BEGIN:VCALENDAR
VERSION:2.0
CALSCALE:GREGORIAN
PRODID:-//Diputació de Barcelona//DibaCMS//EN
BEGIN:VEVENT
UID:10174
DTSTAMP:20260422T110908
DTSTART:20231023T070000
DTEND:20231023T130000
SUMMARY:Calendari de recollida Fracció Vegetal
LOCATION:
METHOD:PUBLISH
X-WR-CALNAME:vallgorguina@vallgorguina.cat
X-WR-TIMEZONE:Europe/Madrid
DESCRIPTION:
URI:https://www.vallgorguina.cat/actualitat/agenda/calendari-de-recollida-fraccio-vegetal.html
CLASS:PUBLIC
END:VEVENT
END:VCALENDAR
