BEGIN:VCALENDAR
VERSION:2.0
CALSCALE:GREGORIAN
PRODID:-//Diputació de Barcelona//DibaCMS//EN
BEGIN:VEVENT
UID:10176
DTSTAMP:20260421T201934
DTSTART:20231028T070000
DTEND:20231028T130000
SUMMARY:Deixalleria mòbil octubre 2023
LOCATION:
METHOD:PUBLISH
X-WR-CALNAME:vallgorguina@vallgorguina.cat
X-WR-TIMEZONE:Europe/Madrid
DESCRIPTION:
URI:https://www.vallgorguina.cat/actualitat/agenda/10176-deixalleria-mobil-octubre-2023.html
CLASS:PUBLIC
END:VEVENT
END:VCALENDAR
