BEGIN:VCALENDAR
VERSION:2.0
CALSCALE:GREGORIAN
PRODID:-//Diputació de Barcelona//DibaCMS//EN
BEGIN:VEVENT
UID:10186
DTSTAMP:20260422T024350
DTSTART:20231113T070000
DTEND:20231113T130000
SUMMARY:Calendari de recollida Fracció Vegetal
LOCATION:
METHOD:PUBLISH
X-WR-CALNAME:vallgorguina@vallgorguina.cat
X-WR-TIMEZONE:Europe/Madrid
DESCRIPTION:
URI:https://www.vallgorguina.cat/actualitat/agenda/10186-calendari-de-recollida-fraccio-vegetal.html
CLASS:PUBLIC
END:VEVENT
END:VCALENDAR
