BEGIN:VCALENDAR
VERSION:2.0
CALSCALE:GREGORIAN
PRODID:-//Diputació de Barcelona//DibaCMS//EN
BEGIN:VEVENT
UID:10191
DTSTAMP:20260421T182034
DTSTART:20231118T070000
DTEND:20231118T130000
SUMMARY:Deixalleria mòbil novembre 2023
LOCATION:
METHOD:PUBLISH
X-WR-CALNAME:vallgorguina@vallgorguina.cat
X-WR-TIMEZONE:Europe/Madrid
DESCRIPTION:
URI:https://www.vallgorguina.cat/actualitat/agenda/deixalleria-mobil-novembre-2023.html
CLASS:PUBLIC
END:VEVENT
END:VCALENDAR
