BEGIN:VCALENDAR
VERSION:2.0
CALSCALE:GREGORIAN
PRODID:-//Diputació de Barcelona//DibaCMS//EN
BEGIN:VEVENT
UID:10192
DTSTAMP:20260422T023655
DTSTART:20231031T163000
DTEND:20231031T200000
SUMMARY:Vine a celebrar La Castanyada
LOCATION:
METHOD:PUBLISH
X-WR-CALNAME:vallgorguina@vallgorguina.cat
X-WR-TIMEZONE:Europe/Madrid
DESCRIPTION:
URI:https://www.vallgorguina.cat/actualitat/agenda/vine-a-celebrar-la-castanyada.html
CLASS:PUBLIC
END:VEVENT
END:VCALENDAR
