BEGIN:VCALENDAR
VERSION:2.0
CALSCALE:GREGORIAN
PRODID:-//Diputació de Barcelona//DibaCMS//EN
BEGIN:VEVENT
UID:10193
DTSTAMP:20260421T202320
DTSTART:20231115T180000
DTEND:20231115T180000
SUMMARY:Junta de Govern Local
LOCATION:
METHOD:PUBLISH
X-WR-CALNAME:vallgorguina@vallgorguina.cat
X-WR-TIMEZONE:Europe/Madrid
DESCRIPTION:
URI:https://www.vallgorguina.cat/actualitat/agenda/junta-de-govern-local.html
CLASS:PUBLIC
END:VEVENT
END:VCALENDAR
