BEGIN:VCALENDAR
VERSION:2.0
CALSCALE:GREGORIAN
PRODID:-//Diputació de Barcelona//DibaCMS//EN
BEGIN:VEVENT
UID:10195
DTSTAMP:20260421T221746
DTSTART:20231205T000000
DTEND:20231205T120000
SUMMARY:Calendari de recollida de voluminosos
LOCATION:
METHOD:PUBLISH
X-WR-CALNAME:vallgorguina@vallgorguina.cat
X-WR-TIMEZONE:Europe/Madrid
DESCRIPTION:
URI:https://www.vallgorguina.cat/actualitat/agenda/10195-calendari-de-recollida-de-voluminosos.html
CLASS:PUBLIC
END:VEVENT
END:VCALENDAR
