BEGIN:VCALENDAR
VERSION:2.0
CALSCALE:GREGORIAN
PRODID:-//Diputació de Barcelona//DibaCMS//EN
BEGIN:VEVENT
UID:10204
DTSTAMP:20260421T181948
DTSTART:20231119T180000
DTEND:20231119T193000
SUMMARY:Projecció de cinema «La Materna»
LOCATION:
METHOD:PUBLISH
X-WR-CALNAME:vallgorguina@vallgorguina.cat
X-WR-TIMEZONE:Europe/Madrid
DESCRIPTION:
URI:https://www.vallgorguina.cat/actualitat/agenda/projeccio-de-cinema-la-materna.html
CLASS:PUBLIC
END:VEVENT
END:VCALENDAR
