BEGIN:VCALENDAR
VERSION:2.0
CALSCALE:GREGORIAN
PRODID:-//Diputació de Barcelona//DibaCMS//EN
BEGIN:VEVENT
UID:10206
DTSTAMP:20260422T070949
DTSTART:20231125T130000
DTEND:20231126T130000
SUMMARY:Xerrades de la Fira del Bosc de Vallgorguina
LOCATION:
METHOD:PUBLISH
X-WR-CALNAME:vallgorguina@vallgorguina.cat
X-WR-TIMEZONE:Europe/Madrid
DESCRIPTION:
URI:https://www.vallgorguina.cat/actualitat/agenda/xerrades-de-la-fira-del-bosc-de-vallgorguina.html
CLASS:PUBLIC
END:VEVENT
END:VCALENDAR
