BEGIN:VCALENDAR
VERSION:2.0
CALSCALE:GREGORIAN
PRODID:-//Diputació de Barcelona//DibaCMS//EN
BEGIN:VEVENT
UID:10207
DTSTAMP:20260421T221230
DTSTART:20231125T180000
DTEND:20231125T200000
SUMMARY:Presentació del llibre «Les Pedres i el Forns de Vallgorguina» i exposició «Vols conèixer el nostre terme?»
LOCATION:
METHOD:PUBLISH
X-WR-CALNAME:vallgorguina@vallgorguina.cat
X-WR-TIMEZONE:Europe/Madrid
DESCRIPTION:
URI:https://www.vallgorguina.cat/actualitat/agenda/presentacio-del-llibre-les-pedres-i-el-forns-de-vallgorguina-i-exposicio-vols-coneixer-el-nostre-terme.html
CLASS:PUBLIC
END:VEVENT
END:VCALENDAR
