BEGIN:VCALENDAR
VERSION:2.0
CALSCALE:GREGORIAN
PRODID:-//Diputació de Barcelona//DibaCMS//EN
BEGIN:VEVENT
UID:10208
DTSTAMP:20260422T045635
DTSTART:20231124T180000
DTEND:20231124T200000
SUMMARY:Projecció del documental «Violències domèstiques al Senegal», 
LOCATION:
METHOD:PUBLISH
X-WR-CALNAME:vallgorguina@vallgorguina.cat
X-WR-TIMEZONE:Europe/Madrid
DESCRIPTION:
URI:https://www.vallgorguina.cat/actualitat/agenda/projeccio-del-documental-violencies-domestiques-al-senegal-.html
CLASS:PUBLIC
END:VEVENT
END:VCALENDAR
