BEGIN:VCALENDAR
VERSION:2.0
CALSCALE:GREGORIAN
PRODID:-//Diputació de Barcelona//DibaCMS//EN
BEGIN:VEVENT
UID:10216
DTSTAMP:20260422T003638
DTSTART:20231125T150000
DTEND:20231125T183000
SUMMARY:Tallers familiars Fira del bosc
LOCATION:
METHOD:PUBLISH
X-WR-CALNAME:vallgorguina@vallgorguina.cat
X-WR-TIMEZONE:Europe/Madrid
DESCRIPTION:
URI:https://www.vallgorguina.cat/actualitat/agenda/tallers-familiars-fira-del-bosc.html
CLASS:PUBLIC
END:VEVENT
END:VCALENDAR
