BEGIN:VCALENDAR
VERSION:2.0
CALSCALE:GREGORIAN
PRODID:-//Diputació de Barcelona//DibaCMS//EN
BEGIN:VEVENT
UID:10217
DTSTAMP:20260421T222906
DTSTART:20231126T160000
DTEND:20231126T183000
SUMMARY:Tallers familiars Fira del bosc
LOCATION:
METHOD:PUBLISH
X-WR-CALNAME:vallgorguina@vallgorguina.cat
X-WR-TIMEZONE:Europe/Madrid
DESCRIPTION:
URI:https://www.vallgorguina.cat/actualitat/agenda/10217-tallers-familiars-fira-del-bosc.html
CLASS:PUBLIC
END:VEVENT
END:VCALENDAR
